BEGIN:VCALENDAR
VERSION:2.0
PRODID:-//Frida-Levy-Gesamtschule - ECPv6.15.20//NONSGML v1.0//EN
CALSCALE:GREGORIAN
METHOD:PUBLISH
X-WR-CALNAME:Frida-Levy-Gesamtschule
X-ORIGINAL-URL:https://frida-levy-gesamtschule.de
X-WR-CALDESC:Veranstaltungen für Frida-Levy-Gesamtschule
REFRESH-INTERVAL;VALUE=DURATION:PT1H
X-Robots-Tag:noindex
X-PUBLISHED-TTL:PT1H
BEGIN:VTIMEZONE
TZID:Europe/Berlin
BEGIN:DAYLIGHT
TZOFFSETFROM:+0100
TZOFFSETTO:+0200
TZNAME:CEST
DTSTART:20250330T010000
END:DAYLIGHT
BEGIN:STANDARD
TZOFFSETFROM:+0200
TZOFFSETTO:+0100
TZNAME:CET
DTSTART:20251026T010000
END:STANDARD
BEGIN:DAYLIGHT
TZOFFSETFROM:+0100
TZOFFSETTO:+0200
TZNAME:CEST
DTSTART:20260329T010000
END:DAYLIGHT
BEGIN:STANDARD
TZOFFSETFROM:+0200
TZOFFSETTO:+0100
TZNAME:CET
DTSTART:20261025T010000
END:STANDARD
BEGIN:DAYLIGHT
TZOFFSETFROM:+0100
TZOFFSETTO:+0200
TZNAME:CEST
DTSTART:20270328T010000
END:DAYLIGHT
BEGIN:STANDARD
TZOFFSETFROM:+0200
TZOFFSETTO:+0100
TZNAME:CET
DTSTART:20271031T010000
END:STANDARD
END:VTIMEZONE
BEGIN:VEVENT
DTSTART;VALUE=DATE:20260112
DTEND;VALUE=DATE:20260131
DTSTAMP:20260422T051805
CREATED:20250924T103705Z
LAST-MODIFIED:20250924T103705Z
UID:2295-1768176000-1769817599@frida-levy-gesamtschule.de
SUMMARY:Praktikum EF
DESCRIPTION:
URL:https://frida-levy-gesamtschule.de/termin/praktikum-ef/
END:VEVENT
BEGIN:VEVENT
DTSTART;VALUE=DATE:20260116
DTEND;VALUE=DATE:20260117
DTSTAMP:20260422T051805
CREATED:20250924T103951Z
LAST-MODIFIED:20250924T103951Z
UID:2305-1768521600-1768607999@frida-levy-gesamtschule.de
SUMMARY:Ende 2. Quartal für Q2
DESCRIPTION:
URL:https://frida-levy-gesamtschule.de/termin/ende-2-quartal-fuer-q2/
END:VEVENT
BEGIN:VEVENT
DTSTART;VALUE=DATE:20260116
DTEND;VALUE=DATE:20260117
DTSTAMP:20260422T051805
CREATED:20250924T103844Z
LAST-MODIFIED:20250924T103844Z
UID:2301-1768521600-1768607999@frida-levy-gesamtschule.de
SUMMARY:Ausgabe Schullaufbahnbescheinigung Q2
DESCRIPTION:
URL:https://frida-levy-gesamtschule.de/termin/ausgabe-schullaufbahnbescheinigung-q2/
END:VEVENT
END:VCALENDAR