BEGIN:VCALENDAR
VERSION:2.0
PRODID:-//Frida-Levy-Gesamtschule - ECPv6.15.20//NONSGML v1.0//EN
CALSCALE:GREGORIAN
METHOD:PUBLISH
X-ORIGINAL-URL:https://frida-levy-gesamtschule.de
X-WR-CALDESC:Veranstaltungen für Frida-Levy-Gesamtschule
REFRESH-INTERVAL;VALUE=DURATION:PT1H
X-Robots-Tag:noindex
X-PUBLISHED-TTL:PT1H
BEGIN:VTIMEZONE
TZID:Europe/Berlin
BEGIN:DAYLIGHT
TZOFFSETFROM:+0100
TZOFFSETTO:+0200
TZNAME:CEST
DTSTART:20250330T010000
END:DAYLIGHT
BEGIN:STANDARD
TZOFFSETFROM:+0200
TZOFFSETTO:+0100
TZNAME:CET
DTSTART:20251026T010000
END:STANDARD
BEGIN:DAYLIGHT
TZOFFSETFROM:+0100
TZOFFSETTO:+0200
TZNAME:CEST
DTSTART:20260329T010000
END:DAYLIGHT
BEGIN:STANDARD
TZOFFSETFROM:+0200
TZOFFSETTO:+0100
TZNAME:CET
DTSTART:20261025T010000
END:STANDARD
BEGIN:DAYLIGHT
TZOFFSETFROM:+0100
TZOFFSETTO:+0200
TZNAME:CEST
DTSTART:20270328T010000
END:DAYLIGHT
BEGIN:STANDARD
TZOFFSETFROM:+0200
TZOFFSETTO:+0100
TZNAME:CET
DTSTART:20271031T010000
END:STANDARD
END:VTIMEZONE
BEGIN:VEVENT
DTSTART;TZID=Europe/Berlin:20260203T180000
DTEND;TZID=Europe/Berlin:20260203T183000
DTSTAMP:20260421T141551
CREATED:20250924T104814Z
LAST-MODIFIED:20250924T104814Z
UID:2317-1770141600-1770143400@frida-levy-gesamtschule.de
SUMMARY:Elterninfoabend neue 5
DESCRIPTION:
URL:https://frida-levy-gesamtschule.de/termin/elterninfoabend-neue-5-3/
END:VEVENT
BEGIN:VEVENT
DTSTART;TZID=Europe/Berlin:20260203T180000
DTEND;TZID=Europe/Berlin:20260203T193000
DTSTAMP:20260421T141551
CREATED:20250924T105147Z
LAST-MODIFIED:20250924T105147Z
UID:2319-1770141600-1770147000@frida-levy-gesamtschule.de
SUMMARY:Infoabend neue EF
DESCRIPTION:
URL:https://frida-levy-gesamtschule.de/termin/infoabend-neue-ef-2/
END:VEVENT
END:VCALENDAR