BEGIN:VCALENDAR
VERSION:2.0
PRODID:-//Frida-Levy-Gesamtschule - ECPv6.15.20//NONSGML v1.0//EN
CALSCALE:GREGORIAN
METHOD:PUBLISH
X-WR-CALNAME:Frida-Levy-Gesamtschule
X-ORIGINAL-URL:https://frida-levy-gesamtschule.de
X-WR-CALDESC:Veranstaltungen für Frida-Levy-Gesamtschule
REFRESH-INTERVAL;VALUE=DURATION:PT1H
X-Robots-Tag:noindex
X-PUBLISHED-TTL:PT1H
BEGIN:VTIMEZONE
TZID:Europe/Berlin
BEGIN:DAYLIGHT
TZOFFSETFROM:+0100
TZOFFSETTO:+0200
TZNAME:CEST
DTSTART:20250330T010000
END:DAYLIGHT
BEGIN:STANDARD
TZOFFSETFROM:+0200
TZOFFSETTO:+0100
TZNAME:CET
DTSTART:20251026T010000
END:STANDARD
BEGIN:DAYLIGHT
TZOFFSETFROM:+0100
TZOFFSETTO:+0200
TZNAME:CEST
DTSTART:20260329T010000
END:DAYLIGHT
BEGIN:STANDARD
TZOFFSETFROM:+0200
TZOFFSETTO:+0100
TZNAME:CET
DTSTART:20261025T010000
END:STANDARD
BEGIN:DAYLIGHT
TZOFFSETFROM:+0100
TZOFFSETTO:+0200
TZNAME:CEST
DTSTART:20270328T010000
END:DAYLIGHT
BEGIN:STANDARD
TZOFFSETFROM:+0200
TZOFFSETTO:+0100
TZNAME:CET
DTSTART:20271031T010000
END:STANDARD
END:VTIMEZONE
BEGIN:VEVENT
DTSTART;VALUE=DATE:20260501
DTEND;VALUE=DATE:20260502
DTSTAMP:20260421T101912
CREATED:20260205T102615Z
LAST-MODIFIED:20260205T102615Z
UID:2530-1777593600-1777679999@frida-levy-gesamtschule.de
SUMMARY:Tag der Arbeit (Schulfrei)
DESCRIPTION:
URL:https://frida-levy-gesamtschule.de/termin/tag-der-arbeit-schulfrei/
END:VEVENT
BEGIN:VEVENT
DTSTART;VALUE=DATE:20260506
DTEND;VALUE=DATE:20260507
DTSTAMP:20260421T101912
CREATED:20260209T162831Z
LAST-MODIFIED:20260209T162831Z
UID:2561-1778025600-1778111999@frida-levy-gesamtschule.de
SUMMARY:Abi LK+GK M
DESCRIPTION:
URL:https://frida-levy-gesamtschule.de/termin/abi-lkgk-m/
END:VEVENT
BEGIN:VEVENT
DTSTART;VALUE=DATE:20260507
DTEND;VALUE=DATE:20260508
DTSTAMP:20260421T101912
CREATED:20260209T162903Z
LAST-MODIFIED:20260209T162903Z
UID:2563-1778112000-1778198399@frida-levy-gesamtschule.de
SUMMARY:Abi Nachschreibtermin Spanisch GK
DESCRIPTION:
URL:https://frida-levy-gesamtschule.de/termin/abi-nachschreibtermin-spanisch-gk/
END:VEVENT
BEGIN:VEVENT
DTSTART;VALUE=DATE:20260511
DTEND;VALUE=DATE:20260512
DTSTAMP:20260421T101912
CREATED:20260209T163009Z
LAST-MODIFIED:20260209T163009Z
UID:2567-1778457600-1778543999@frida-levy-gesamtschule.de
SUMMARY:Abi Nachschreibtermin LK KU/ PA/EK/GE/PL
DESCRIPTION:
URL:https://frida-levy-gesamtschule.de/termin/abi-nachschreibtermin-lk-ku-pa-ek-ge-pl-2/
END:VEVENT
BEGIN:VEVENT
DTSTART;VALUE=DATE:20260511
DTEND;VALUE=DATE:20260512
DTSTAMP:20260421T101912
CREATED:20260209T162940Z
LAST-MODIFIED:20260209T162940Z
UID:2565-1778457600-1778543999@frida-levy-gesamtschule.de
SUMMARY:Abi Nachschreibtermin LK KU/ PA/EK/GE/PL
DESCRIPTION:
URL:https://frida-levy-gesamtschule.de/termin/abi-nachschreibtermin-lk-ku-pa-ek-ge-pl/
END:VEVENT
BEGIN:VEVENT
DTSTART;VALUE=DATE:20260511
DTEND;VALUE=DATE:20260512
DTSTAMP:20260421T101912
CREATED:20260205T102212Z
LAST-MODIFIED:20260209T162340Z
UID:2518-1778457600-1778543999@frida-levy-gesamtschule.de
SUMMARY:Schulpflegschaftsabend
DESCRIPTION:
URL:https://frida-levy-gesamtschule.de/termin/elternpflegschaftsabend/
END:VEVENT
BEGIN:VEVENT
DTSTART;VALUE=DATE:20260512
DTEND;VALUE=DATE:20260513
DTSTAMP:20260421T101912
CREATED:20260209T163043Z
LAST-MODIFIED:20260209T163043Z
UID:2569-1778544000-1778630399@frida-levy-gesamtschule.de
SUMMARY:Abi Nachschreibtermin LK KU/ PA/EK/GE/PL
DESCRIPTION:
URL:https://frida-levy-gesamtschule.de/termin/abi-nachschreibtermin-lk-ku-pa-ek-ge-pl-3/
END:VEVENT
BEGIN:VEVENT
DTSTART;VALUE=DATE:20260513
DTEND;VALUE=DATE:20260514
DTSTAMP:20260421T101912
CREATED:20260209T163145Z
LAST-MODIFIED:20260209T163145Z
UID:2573-1778630400-1778716799@frida-levy-gesamtschule.de
SUMMARY:Abi Nachschreibtermin LK+GK Biologie
DESCRIPTION:
URL:https://frida-levy-gesamtschule.de/termin/abi-nachschreibtermin-lkgk-biologie/
END:VEVENT
BEGIN:VEVENT
DTSTART;VALUE=DATE:20260513
DTEND;VALUE=DATE:20260514
DTSTAMP:20260421T101912
CREATED:20260209T163120Z
LAST-MODIFIED:20260209T163120Z
UID:2571-1778630400-1778716799@frida-levy-gesamtschule.de
SUMMARY:ZP10 D Haupttermin
DESCRIPTION:
URL:https://frida-levy-gesamtschule.de/termin/zp10-d-haupttermin/
END:VEVENT
BEGIN:VEVENT
DTSTART;VALUE=DATE:20260514
DTEND;VALUE=DATE:20260515
DTSTAMP:20260421T101912
CREATED:20260205T102317Z
LAST-MODIFIED:20260205T102317Z
UID:2520-1778716800-1778803199@frida-levy-gesamtschule.de
SUMMARY:Christi Himmelfahrt
DESCRIPTION:
URL:https://frida-levy-gesamtschule.de/termin/christi-himmelfahrt/
END:VEVENT
BEGIN:VEVENT
DTSTART;VALUE=DATE:20260515
DTEND;VALUE=DATE:20260516
DTSTAMP:20260421T101912
CREATED:20260205T102349Z
LAST-MODIFIED:20260205T102349Z
UID:2522-1778803200-1778889599@frida-levy-gesamtschule.de
SUMMARY:Beweglicher Ferientag
DESCRIPTION:
URL:https://frida-levy-gesamtschule.de/termin/beweglicher-ferientag-3/
END:VEVENT
BEGIN:VEVENT
DTSTART;VALUE=DATE:20260518
DTEND;VALUE=DATE:20260519
DTSTAMP:20260421T101912
CREATED:20260209T163209Z
LAST-MODIFIED:20260209T163209Z
UID:2575-1779062400-1779148799@frida-levy-gesamtschule.de
SUMMARY:Abi Nachschreibtermin LK+GK Deutsch
DESCRIPTION:
URL:https://frida-levy-gesamtschule.de/termin/abi-nachschreibtermin-lkgk-deutsch/
END:VEVENT
BEGIN:VEVENT
DTSTART;VALUE=DATE:20260519
DTEND;VALUE=DATE:20260520
DTSTAMP:20260421T101912
CREATED:20260209T163333Z
LAST-MODIFIED:20260209T163333Z
UID:2579-1779148800-1779235199@frida-levy-gesamtschule.de
SUMMARY:ZP10 E Haupttermin
DESCRIPTION:
URL:https://frida-levy-gesamtschule.de/termin/zp10-e-haupttermin/
END:VEVENT
BEGIN:VEVENT
DTSTART;VALUE=DATE:20260519
DTEND;VALUE=DATE:20260520
DTSTAMP:20260421T101912
CREATED:20260209T163257Z
LAST-MODIFIED:20260209T163257Z
UID:2577-1779148800-1779235199@frida-levy-gesamtschule.de
SUMMARY:Abi Nachschreibtermin LK+GK Englisch
DESCRIPTION:
URL:https://frida-levy-gesamtschule.de/termin/abi-nachschreibtermin-lkgk-englisch/
END:VEVENT
BEGIN:VEVENT
DTSTART;VALUE=DATE:20260521
DTEND;VALUE=DATE:20260522
DTSTAMP:20260421T101912
CREATED:20260205T102426Z
LAST-MODIFIED:20260205T102426Z
UID:2524-1779321600-1779407999@frida-levy-gesamtschule.de
SUMMARY:Sportfest
DESCRIPTION:
URL:https://frida-levy-gesamtschule.de/termin/sportfest-2/
END:VEVENT
BEGIN:VEVENT
DTSTART;VALUE=DATE:20260525
DTEND;VALUE=DATE:20260526
DTSTAMP:20260421T101912
CREATED:20260205T102528Z
LAST-MODIFIED:20260205T102528Z
UID:2526-1779667200-1779753599@frida-levy-gesamtschule.de
SUMMARY:Pfingstmontag (Schulfrei)
DESCRIPTION:
URL:https://frida-levy-gesamtschule.de/termin/pfingstmontag-schulfrei/
END:VEVENT
BEGIN:VEVENT
DTSTART;VALUE=DATE:20260526
DTEND;VALUE=DATE:20260527
DTSTAMP:20260421T101912
CREATED:20260205T102548Z
LAST-MODIFIED:20260205T102548Z
UID:2528-1779753600-1779839999@frida-levy-gesamtschule.de
SUMMARY:Beweglicher Ferientag
DESCRIPTION:
URL:https://frida-levy-gesamtschule.de/termin/beweglicher-ferientag-4/
END:VEVENT
BEGIN:VEVENT
DTSTART;VALUE=DATE:20260527
DTEND;VALUE=DATE:20260528
DTSTAMP:20260421T101912
CREATED:20260209T163415Z
LAST-MODIFIED:20260209T163415Z
UID:2581-1779840000-1779926399@frida-levy-gesamtschule.de
SUMMARY:Opferfest
DESCRIPTION:
URL:https://frida-levy-gesamtschule.de/termin/opferfest/
END:VEVENT
BEGIN:VEVENT
DTSTART;VALUE=DATE:20260528
DTEND;VALUE=DATE:20260529
DTSTAMP:20260421T101912
CREATED:20260209T163527Z
LAST-MODIFIED:20260209T163527Z
UID:2585-1779926400-1780012799@frida-levy-gesamtschule.de
SUMMARY:ZP10 M Haupttermin
DESCRIPTION:
URL:https://frida-levy-gesamtschule.de/termin/zp10-m-haupttermin/
END:VEVENT
BEGIN:VEVENT
DTSTART;VALUE=DATE:20260528
DTEND;VALUE=DATE:20260529
DTSTAMP:20260421T101912
CREATED:20260209T163459Z
LAST-MODIFIED:20260209T163459Z
UID:2583-1779926400-1780012799@frida-levy-gesamtschule.de
SUMMARY:Abi Nachschreibtermin LK+GK Mathematik
DESCRIPTION:
URL:https://frida-levy-gesamtschule.de/termin/abi-nachschreibtermin-lkgk-mathematik/
END:VEVENT
END:VCALENDAR